BEGIN:VCALENDAR
VERSION:2.0
PRODID:-//www.scifi.sk//iCal
X-WR-CALNAME:scifi.sk
NAME:scifi.sk
CALSCALE:GREGORIAN
BEGIN:VTIMEZONE
TZID:Europe/Berlin
TZURL:http://tzurl.org/zoneinfo-outlook/Europe/Berlin
X-LIC-LOCATION:Europe/Berlin
BEGIN:DAYLIGHT
TZOFFSETFROM:+0100
TZOFFSETTO:+0200
TZNAME:CEST
DTSTART:19700329T020000
RRULE:FREQ=YEARLY;BYMONTH=3;BYDAY=-1SU
END:DAYLIGHT
BEGIN:STANDARD
TZOFFSETFROM:+0200
TZOFFSETTO:+0100
TZNAME:CET
DTSTART:19701025T030000
RRULE:FREQ=YEARLY;BYMONTH=10;BYDAY=-1SU
END:STANDARD
END:VTIMEZONE
BEGIN:VEVENT
DTSTAMP:20260424T84127
UID:sfdb-9367@scifi.sk
DTSTART;TZID=Europe/Berlin:20260426T170000
DTEND;TZID=Europe/Berlin:20260426T180017
SUMMARY:Fyzické vs. Digitálne Produkty
URL:https://twitch.tv/scifisk
DESCRIPTION:<a href="https://twitch.tv/scifisk">https://twitch.tv/scifisk</a><br />Aj vy máte radi vôňu čerstvo vytlačenej knihy? Alebo už fyzické produkty nemáte kam dávať a oveľa radšej sa orientujete v digitálnych knižniciach? Ako vidia fyzické vs. digitálne produkty Eddie a Šaňo pri hraní stolových RPG?
LOCATION:
BEGIN:VALARM
ACTION:DISPLAY
DESCRIPTION:Fyzické vs. Digitálne Produkty
TRIGGER:-PT5M
END:VALARM
END:VEVENT
END:VCALENDAR