BEGIN:VCALENDAR
VERSION:2.0
PRODID:-//www.scifi.sk//iCal
X-WR-CALNAME:scifi.sk
NAME:scifi.sk
CALSCALE:GREGORIAN
BEGIN:VTIMEZONE
TZID:Europe/Berlin
TZURL:http://tzurl.org/zoneinfo-outlook/Europe/Berlin
X-LIC-LOCATION:Europe/Berlin
BEGIN:DAYLIGHT
TZOFFSETFROM:+0100
TZOFFSETTO:+0200
TZNAME:CEST
DTSTART:19700329T020000
RRULE:FREQ=YEARLY;BYMONTH=3;BYDAY=-1SU
END:DAYLIGHT
BEGIN:STANDARD
TZOFFSETFROM:+0200
TZOFFSETTO:+0100
TZNAME:CET
DTSTART:19701025T030000
RRULE:FREQ=YEARLY;BYMONTH=10;BYDAY=-1SU
END:STANDARD
END:VTIMEZONE
BEGIN:VEVENT
DTSTAMP:20260423T24606
UID:sfdb-9365@scifi.sk
DTSTART;TZID=Europe/Berlin:20260428T180000
DTEND;TZID=Europe/Berlin:20260428T190018
SUMMARY:Sanitarium - Ep. 3 - Niekto tu z toho robí cirkus!
URL:https://twitch.tv/scifisk
DESCRIPTION:<a href="https://twitch.tv/scifisk">https://twitch.tv/scifisk</a><br />Vieme, kto sme! Ako lekár sme sa pravdepodobne podieľali na projekte liečby vírusu, ktorému podľahla aj naša sestra Sarah. Otázkou ostáva, chcel niekto našu smrť, alebo bola havária auta len nehoda? Určite ju ale nenájdeme v tomto cirkuse, do ktorého sme vhupli sťa Alica do Krajiny zázrakov!
LOCATION:
BEGIN:VALARM
ACTION:DISPLAY
DESCRIPTION:Sanitarium - Ep. 3 - Niekto tu z toho robí cirkus!
TRIGGER:-PT5M
END:VALARM
END:VEVENT
END:VCALENDAR